BEGIN:VCALENDAR
VERSION:2.0
PRODID:-//ChamberMaster//Event Calendar 2.0//EN
METHOD:PUBLISH
X-PUBLISHED-TTL:P3D
REFRESH-INTERVAL:P3D
CALSCALE:GREGORIAN
BEGIN:VEVENT
DTSTART:20260601T020000Z
DTEND:20260601T033000Z
X-MICROSOFT-CDO-ALLDAYEVENT:FALSE
SUMMARY:2026 Full Moon Yoga at Alderbrook Resort & Spa- Joonbugyoga
DESCRIPTION:Please pre-register on the website prior to the event at http://www.joonbugyoga.com. You will receive a message after sending the payment to confirm your registration. If you would like to register and pay upon arrival\, please email Michelle at joonbugyoga@gmail.com to reserve your space and pay at the class.\n\n\n\nTime: 7:00 pm to 8:30 pm\n\n\n\nLocation: Alderbrook Resort and Spa\, 10 E. Alderbrook Dr. Union\, WA 98592. Please check in at the front desk upon arrival for the class location inside of the resort or outside on the waterfront during the warmer months.
X-ALT-DESC;FMTTYPE=text/html:<div class="kvgmc6g5 cxmmr5t8 oygrvhab hcukyx3x c1et5uql" style="overflow-wrap: break-word\; margin: 0px\; font-family: &quot\;Segoe UI Historic&quot\;\, &quot\;Segoe UI&quot\;\, Helvetica\, Arial\, sans-serif\; color: rgb(5\, 5\, 5)\; font-size: 15px\;"><span style="font-size: 10.5pt\; font-family: &quot\;Segoe UI&quot\;\, sans-serif\;">Please pre-register on the website prior to the event at <a href="http://www.joonbugyoga.com"><span style="color:#E27730">http://www.joonbugyoga.com</span></a>. You will receive a message after sending the payment to confirm your registration. If you would like to register and pay upon arrival\, please email Michelle at <a href="mailto:joonbugyoga@gmail.com"><span style="color:#E27730">joonbugyoga@gmail.com</span></a> to reserve your space and pay at the class.<br />\n<br />\nTime: 7:00 pm to 8:30 pm<br />\n<br />\nLocation: Alderbrook Resort and Spa\, 10 E. Alderbrook Dr. Union\, WA 98592. Please check in at the front desk upon arrival for the class location inside of the resort or outside on the waterfront during the warmer months.<br />\n<!--[if !supportLineBreakNewLine]--><br />\n<!--[endif]--><br />\n<!--[endif]--></span></div>\n
LOCATION:Alderbrook Resort and Spa 10 E Alderbrook Dr\, Union
UID:e.71.72429
SEQUENCE:3
DTSTAMP:20260424T125958Z
URL:https://chamber.masonchamber.com/events/details/2026-full-moon-yoga-at-alderbrook-resort-spa-joonbugyoga-72429
END:VEVENT

END:VCALENDAR
