BEGIN:VCALENDAR
VERSION:2.0
PRODID:-//ChamberMaster//Event Calendar 2.0//EN
METHOD:PUBLISH
X-PUBLISHED-TTL:P3D
REFRESH-INTERVAL:P3D
CALSCALE:GREGORIAN
BEGIN:VEVENT
DTSTART:20210417T010000Z
DTEND:20210417T050000Z
X-MICROSOFT-CDO-ALLDAYEVENT:FALSE
SUMMARY:2021 Chamber Awards Gala
DESCRIPTION:Join the Chamber as we celebrate the accomplishments of 2020. Last year was a struggle for many\, yet some businesses stand out for their support\, perseverance\, and spirit of community.\n\n\n\nThis year especially\, we will celebrate the resiliency demonstrated by our community and highlight the successes achieved in 2020. The semi-formal event includes an elaborate four-course dinner expertly paired with wine\, installation of the board of trustees\, a nod to all award finalists\, and the announcement of the winners. Business of the Year\, Rookie of the Year\, Boss of the Year\, Citizen of the Year\, Community Supporter of the Year\, Volunteer of the Year\, and the President's Choice Award will be presented. \n\n\n\nThe Chamber is committed to providing a safe event in accordance with current guidelines and mandates. In usual circumstances\, the event center can hold more than 800 guests\; occupancy for the Awards Gala will be less than 1/6 of that capacity. Only six guests will be seated per table instead of the usual eight. To ensure a smooth arrival\, guests will be assigned a specific arrival period. Upon entering the venue\, a temperature check will be conducted\, then guests will be offered a photo opportunity and be ushered directly to their reserved seat.\n\n\n\nReservations are open only to Chamber members in good standing on a first come\, first served basis with a limit of two tickets per Chamber member business/organization.
X-ALT-DESC;FMTTYPE=text/html:Join the Chamber as we celebrate the accomplishments of 2020. Last year was a struggle for many\, yet some businesses stand out for their support\, perseverance\, and spirit of community.<br />\n<br />\nThis year especially\, we will celebrate the resiliency demonstrated by our community and highlight the successes achieved in 2020. The semi-formal event includes an elaborate four-course dinner expertly paired with wine\, installation of the board of trustees\, a nod to all award finalists\, and the announcement of the winners. Business of the Year\, Rookie of the Year\, Boss of the Year\, Citizen of the Year\, Community Supporter of the Year\, Volunteer of the Year\, and the President&rsquo\;s Choice Award will be presented.&nbsp\;<br />\n<br />\nThe Chamber is committed to providing a safe event in accordance with current guidelines and mandates. In usual circumstances\, the event center can hold more than 800 guests\; occupancy for the Awards Gala will be less than 1/6 of that capacity. Only six guests will be seated per table instead of the usual eight. To ensure a smooth arrival\, guests will be assigned a specific arrival period. Upon entering the venue\, a temperature check will be conducted\, then guests will be offered a photo opportunity and be ushered directly to their reserved seat.<br />\n<br />\nReservations are open only to Chamber members in good standing&nbsp\;on a first come\, first served basis with a limit of two tickets per Chamber member business/organization.
LOCATION:Little Creek Casino Resort Skookum Creek Event Center 91 State Route 108 Shelton\, WA 98584
UID:e.71.60138
SEQUENCE:3
DTSTAMP:20260424T171904Z
URL:https://chamber.masonchamber.com/events/details/2021-chamber-awards-gala-60138
END:VEVENT

END:VCALENDAR
